BEGIN:VCALENDAR
VERSION:2.0
PRODID:-//eventon.com NONSGML v1.0//EN
CALSCALE:GREGORIAN
METHOD:PUBLISH
BEGIN:VEVENT
UID:69eae52dc25ac
DTSTAMP:20260424T033613Z
DTSTART:20240604T060000Z
DTEND:20240604T193000Z
LOCATION:
SUMMARY:Communication Friendly Spaces In Childminding Settings With Elizabeth Jarman: Developing Effective Learning Environments
DESCRIPTION:This is a Seminar for Childminders by&nbsp;Elizabeth Jarman. Us
 ing case studies and images from childminder contexts\,  the input from Eli
 zabeth will include key points to remember when reviewing learning environm
 ents\,  with particular consideration around post-Covid practice. Be prepar
 ed to be challenged and inspired! Elizabeth Jarman There will be a blend[..
 ]\nhttps://calendar.bristolearlyyears.org.uk/events/communication-friendly-
 spaces-in-childminding-settings-with-elizabeth-jarman-developing-effective-
 learning-environments/
URL:https://calendar.bristolearlyyears.org.uk/events/communication-friendly-spaces-in-childminding-settings-with-elizabeth-jarman-developing-effective-learning-environments/
END:VEVENT
END:VCALENDAR