BEGIN:VCALENDAR
VERSION:2.0
PRODID:-//eventon.com NONSGML v1.0//EN
CALSCALE:GREGORIAN
METHOD:PUBLISH
BEGIN:VEVENT
UID:69e572f092a35
DTSTAMP:20260420T002728Z
DTSTART:20260616T150000Z
DTEND:20260616T170000Z
LOCATION:
SUMMARY:East/Central TRANSITION Event
DESCRIPTION:Transition event for schools and EY settings\nhttps://calendar.
 bristolearlyyears.org.uk/events/east-central-transition-event-2/
URL:https://calendar.bristolearlyyears.org.uk/events/east-central-transition-event-2/
END:VEVENT
END:VCALENDAR