BEGIN:VCALENDAR
VERSION:2.0
PRODID:-//eventon.com NONSGML v1.0//EN
CALSCALE:GREGORIAN
METHOD:PUBLISH
BEGIN:VEVENT
UID:69e572ca0897d
DTSTAMP:20260420T002650Z
DTSTART:20260422T150000Z
DTEND:20260422T163000Z
LOCATION:TBC
SUMMARY:Reception Network
DESCRIPTION:Who? Anyone working in a Reception class in a Bristol school Wh
 y? To connect\,  establish a sense of place and empower the professional vo
 ice of Reception teachers and practitioners based in Bristol Infant and Pri
 mary Schools.-To reflect on the quality of EYFS provision and pedagogy in t
 he Reception year\,  share[..]\nhttps://calendar.bristolearlyyears.org.uk/e
 vents/reception-network-2/
URL:https://calendar.bristolearlyyears.org.uk/events/reception-network-2/
END:VEVENT
END:VCALENDAR