BEGIN:VCALENDAR
VERSION:2.0
PRODID:-//eventon.com NONSGML v1.0//EN
CALSCALE:GREGORIAN
METHOD:PUBLISH
BEGIN:VEVENT
UID:69e571d8031f1
DTSTAMP:20260420T002248Z
DTSTART:20260429T090000Z
DTEND:20260429T100000Z
LOCATION:
SUMMARY:Early Years Online Briefing for Headteachers and EYFS Leaders in Schools
DESCRIPTION:The&nbsp;briefing&nbsp;will be an opportunity to share updates 
 and useful information for you as providers of EYFS provision in Bristol sc
 hools.\nhttps://calendar.bristolearlyyears.org.uk/events/early-years-online
 -briefing-for-headteachers-and-eyfs-leaders-in-schools-2/
URL:https://calendar.bristolearlyyears.org.uk/events/early-years-online-briefing-for-headteachers-and-eyfs-leaders-in-schools-2/
END:VEVENT
END:VCALENDAR