BEGIN:VCALENDAR
VERSION:2.0
PRODID:-//eventon.com NONSGML v1.0//EN
CALSCALE:GREGORIAN
METHOD:PUBLISH
BEGIN:VEVENT
UID:69e57368e22bf
DTSTAMP:20260420T002928Z
DTSTART:20260424T080000Z
DTEND:20260424T153000Z
LOCATION:Southmead Children&#039;s Centre Doncaster Road\,  Bristol BS10 5PW\,  Bristol\,  Bristol\,  Bristol\,  Bristol\,  Bristol\,  Bristol\,  Bristol
SUMMARY:CACHE Level 3 Award for Special Educational Needs Coordinators in Early Years Setting
DESCRIPTION:NCFE CACHE Level 3 Award for Special Educational Needs Coordina
 tors in Early Years Settings | NCFE.&nbsp; Aims of the qualification: To ex
 plore the roles and responsibilities of the Special Educational Needs Coord
 inator in an early years setting. To understand the strategies and techniqu
 es for supporting children and their families. To[..]\nhttps://calendar.bri
 stolearlyyears.org.uk/events/cache-level-3-award-for-special-educational-ne
 eds-coordinators-in-early-years-setting-3/
URL:https://calendar.bristolearlyyears.org.uk/events/cache-level-3-award-for-special-educational-needs-coordinators-in-early-years-setting-3/
END:VEVENT
END:VCALENDAR