BEGIN:VCALENDAR
VERSION:2.0
PRODID:-//eventon.com NONSGML v1.0//EN
CALSCALE:GREGORIAN
METHOD:PUBLISH
BEGIN:VEVENT
UID:69e5736a77b2d
DTSTAMP:20260420T002930Z
DTSTART:20260421T150000Z
DTEND:20260421T170000Z
LOCATION:
SUMMARY:Pattern-spotters\,  Pattern-makers: The Power of Pattern
DESCRIPTION:Maths is about the search for relationships and patterns\,  and
  pattern is a defining quality of mathematics. Children’s pattern awarene
 ss is a key predictor of later maths learning\,  and helping children recog
 nise the regularities and relationships in all sorts of patterns helps them
  “make sense” of mathematics. Robin will consider[..]\nhttps://calendar
 .bristolearlyyears.org.uk/events/pattern-spotters-pattern-makers-the-power-
 of-pattern/
URL:https://calendar.bristolearlyyears.org.uk/events/pattern-spotters-pattern-makers-the-power-of-pattern/
END:VEVENT
END:VCALENDAR