BEGIN:VCALENDAR
VERSION:2.0
PRODID:-//eventon.com NONSGML v1.0//EN
CALSCALE:GREGORIAN
METHOD:PUBLISH
BEGIN:VEVENT
UID:69e5730ede96f
DTSTAMP:20260420T002758Z
DTSTART:20260423T150000Z
DTEND:20260423T163000Z
LOCATION:
SUMMARY:Making Storytimes Powerful: Communication\,  Language and Literacy Network
DESCRIPTION:Come and explore the power of storytimes. This session is an op
 portunity to think about how practitioners can use this everyday experience
  to support early language and literacy for all children. Book with the Str
 onger Practice Hub: Making Storytimes Powerful: Communication\,  Language 
 and Literacy Network\nhttps://calendar.bristolearlyyears.org.uk/events/maki
 ng-storytimes-powerful-communication-language-and-literacy-network/
URL:https://calendar.bristolearlyyears.org.uk/events/making-storytimes-powerful-communication-language-and-literacy-network/
END:VEVENT
END:VCALENDAR