BEGIN:VCALENDAR
VERSION:2.0
PRODID:-//eventon.com NONSGML v1.0//EN
CALSCALE:GREGORIAN
METHOD:PUBLISH
BEGIN:VEVENT
UID:69e5730fd1099
DTSTAMP:20260420T002759Z
DTSTART:20260515T083000Z
DTEND:20260515T093000Z
LOCATION:
SUMMARY:Talking About… Babies and Attachment
DESCRIPTION:In this Talking About… Babies Network session\,  we will ex
 plore the vital role of attachment in the earliest stages of development. T
 ogether\,  we will discuss practical strategies and share experiences to su
 pport secure attachments with babies\,  and consider how we can create emot
 ionally responsive environments that nurture strong\,  trusting relationshi
 ps. Book with[..]\nhttps://calendar.bristolearlyyears.org.uk/events/talking
 -about-babies-and-attachment/
URL:https://calendar.bristolearlyyears.org.uk/events/talking-about-babies-and-attachment/
END:VEVENT
END:VCALENDAR