BEGIN:VCALENDAR
VERSION:2.0
PRODID:-//eventon.com NONSGML v1.0//EN
CALSCALE:GREGORIAN
METHOD:PUBLISH
BEGIN:VEVENT
UID:69e572c306d2f
DTSTAMP:20260420T002643Z
DTSTART:20260519T150000Z
DTEND:20260519T170000Z
LOCATION:
SUMMARY:Counting is a Tricky Business! Building Number Sense – A Deep Understanding of Number
DESCRIPTION:Learning to count is a complex process\,  and children need all
  sorts of experiences and tools to be able to count with confidence and rea
 lly understand the meaning and purpose of numbers. Robin will discuss how t
 o support children in learning to count through a variety of visual\,  verb
 al\,  and[..]\nhttps://calendar.bristolearlyyears.org.uk/events/counting-is
 -a-tricky-business-building-number-sense-a-deep-understanding-of-number/
URL:https://calendar.bristolearlyyears.org.uk/events/counting-is-a-tricky-business-building-number-sense-a-deep-understanding-of-number/
END:VEVENT
END:VCALENDAR