BEGIN:VCALENDAR
VERSION:2.0
PRODID:-//eventon.com NONSGML v1.0//EN
CALSCALE:GREGORIAN
METHOD:PUBLISH
BEGIN:VEVENT
UID:69eb5d0205a9d
DTSTAMP:20260424T120730Z
DTSTART:20260603T171500Z
DTEND:20260603T184500Z
LOCATION:
SUMMARY:Leadership in the Baby Room
DESCRIPTION:In this session\,  we will focus on Leadership in the Baby Room
 \,  exploring the unique responsibilities and opportunities for those leadi
 ng practice with our youngest children. We’ll reflect on what effective l
 eadership looks like in this context\,  discuss ways to support and inspire
  teams\,  and consider how to uphold high-quality\, [..]\nhttps://calendar.
 bristolearlyyears.org.uk/events/leadership-in-the-baby-room/
URL:https://calendar.bristolearlyyears.org.uk/events/leadership-in-the-baby-room/
END:VEVENT
END:VCALENDAR