BEGIN:VCALENDAR
VERSION:2.0
PRODID:-//eventon.com NONSGML v1.0//EN
CALSCALE:GREGORIAN
METHOD:PUBLISH
BEGIN:VEVENT
UID:69e639dc8d3c0
DTSTAMP:20260420T143612Z
DTSTART:20260618T143000Z
DTEND:20260618T153000Z
LOCATION:
SUMMARY:Talking About Twos: Transitions
DESCRIPTION:Transitions can be a significant time of change for two-year-ol
 ds\,  emotionally\,  socially\,  and developmentally. This focused session 
 will explore how to support young children as they move between rooms\,  ro
 utines\,  or settings. We’ll consider the importance of relationships\,  
 communication with families\,  and creating a sense of continuity to ensure
  transitions[..]\nhttps://calendar.bristolearlyyears.org.uk/events/talking-
 about-twos-transitions/
URL:https://calendar.bristolearlyyears.org.uk/events/talking-about-twos-transitions/
END:VEVENT
END:VCALENDAR