BEGIN:VCALENDAR
VERSION:2.0
PRODID:-//eventon.com NONSGML v1.0//EN
CALSCALE:GREGORIAN
METHOD:PUBLISH
BEGIN:VEVENT
UID:69e572c8a7c34
DTSTAMP:20260420T002648Z
DTSTART:20260505T083000Z
DTEND:20260505T103000Z
LOCATION:
SUMMARY:DSL Network Meeting
DESCRIPTION:Online DSL safeguarding Termly Network Meeting Microsoft Teams 
 meeting Join:&nbsp;https://teams.microsoft.com/meet/36719882686646?p=Ibd8G9
 wJ7e5Q4aEOT7 Meeting ID:&nbsp;367 198 826 866 46 Passcode:&nbsp;u2nF9BW9\nh
 ttps://calendar.bristolearlyyears.org.uk/events/dsl-network-meeting/
URL:https://calendar.bristolearlyyears.org.uk/events/dsl-network-meeting/
END:VEVENT
END:VCALENDAR