BEGIN:VCALENDAR
VERSION:2.0
PRODID:-//eventon.com NONSGML v1.0//EN
CALSCALE:GREGORIAN
METHOD:PUBLISH
BEGIN:VEVENT
UID:69e5736b0eb4e
DTSTAMP:20260420T002931Z
DTSTART:20260421T083000Z
DTEND:20260421T150000Z
LOCATION:Knowle West Nursery School Leinster Avenue\,  Knowle West\,  Bristol BS4 1NN
SUMMARY:Makaton Level 1 Workshop
DESCRIPTION:Level 1 provides an introduction to Makaton. You will learn sig
 ns and symbols from Makaton Stages 1 and 2 and some of the vocabulary. This
  is a one day training course that is fully funded by Bristol Early Languag
 e Programme and the Bristol Early Years Portage and Inclusion Team. Please[
 ..]\nhttps://calendar.bristolearlyyears.org.uk/events/makaton-level-1-works
 hop-9/
URL:https://calendar.bristolearlyyears.org.uk/events/makaton-level-1-workshop-9/
END:VEVENT
END:VCALENDAR