BEGIN:VCALENDAR
VERSION:2.0
PRODID:-//eventon.com NONSGML v1.0//EN
CALSCALE:GREGORIAN
METHOD:PUBLISH
BEGIN:VEVENT
UID:69e572c72ebec
DTSTAMP:20260420T002647Z
DTSTART:20260603T083000Z
DTEND:20260603T113000Z
LOCATION:
SUMMARY:Speech Sounds for Practitioners
DESCRIPTION:Understanding speech sound development in young children and ho
 w to support clearer speech.&nbsp; Come and learn about the difference betw
 een speech &amp; language skills\,  developmental milestones and typical pa
 tterns that affect young children’s speech sounds. We will provide you wi
 th evidenced based strategies that you can use in everyday situations[..]\n
 https://calendar.bristolearlyyears.org.uk/events/speech-sounds-for-practiti
 oners-2/var/ri-1.l-L1
URL:https://calendar.bristolearlyyears.org.uk/events/speech-sounds-for-practitioners-2/var/ri-1.l-L1
END:VEVENT
END:VCALENDAR