BEGIN:VCALENDAR
VERSION:2.0
PRODID:-//eventon.com NONSGML v1.0//EN
CALSCALE:GREGORIAN
METHOD:PUBLISH
BEGIN:VEVENT
UID:69e573298e58f
DTSTAMP:20260420T002825Z
DTSTART:20260505T083000Z
DTEND:20260505T103000Z
LOCATION:
SUMMARY:Baby Talk for Practitioners
DESCRIPTION:Come and learn about: What skills are involved in communication
 ; what babies need to learn; how a baby’s communication develops; what to
  expect &amp; when; how can we support parents and carers to identify the w
 ays their baby communicates; what we can do to help a baby develop\,  feel 
 safe[..]\nhttps://calendar.bristolearlyyears.org.uk/events/baby-talk-for-pr
 actitioners/
URL:https://calendar.bristolearlyyears.org.uk/events/baby-talk-for-practitioners/
END:VEVENT
END:VCALENDAR