BEGIN:VCALENDAR
VERSION:2.0
PRODID:-//eventon.com NONSGML v1.0//EN
CALSCALE:GREGORIAN
METHOD:PUBLISH
BEGIN:VEVENT
UID:69e573299b451
DTSTAMP:20260420T002825Z
DTSTART:20260521T083000Z
DTEND:20260521T113000Z
LOCATION:
SUMMARY:Identifying and Supporting Speech\,  Language and Communication Needs
DESCRIPTION:Come and learn: How to identify children with speech\,  languag
 e and communication needs. We&#8217;ll explore evidenced-based\,  supportiv
 e strategies for parents\,  carers and practitioners (for children aged 0-5
  years); and we&#8217;ll look at when and how to signpost parents to Childr
 en’s Early Years Speech &amp; Language Therapy Service. There will also[.
 .]\nhttps://calendar.bristolearlyyears.org.uk/events/identifying-and-suppor
 ting-speech-language-and-communication-needs-2/
URL:https://calendar.bristolearlyyears.org.uk/events/identifying-and-supporting-speech-language-and-communication-needs-2/
END:VEVENT
END:VCALENDAR