BEGIN:VCALENDAR
VERSION:2.0
PRODID:-//eventon.com NONSGML v1.0//EN
CALSCALE:GREGORIAN
METHOD:PUBLISH
BEGIN:VEVENT
UID:69e5730ed051f
DTSTAMP:20260420T002758Z
DTSTART:20260505T140000Z
DTEND:20260505T163000Z
LOCATION:St. Paul's Nursery School and Children's Centre Little Bishop St\,  St Paul's\, 
SUMMARY:Adapted More Than Words (supporting children with social communication differences)
DESCRIPTION:Join this evidenced-based\,  approved Hanen programme\,  which 
 as been adapted for early years practitioners. Learn how to identify differ
 ent social communication stages\,  and implement strategies to support lang
 uage and interaction. The course consists of : 1 online orientation session
  and 5 face-to-face teaching sessions; plus 2 individual video feedback app
 ointments[..]\nhttps://calendar.bristolearlyyears.org.uk/events/adapted-mor
 e-than-words-supporting-children-with-social-communication-differences/
URL:https://calendar.bristolearlyyears.org.uk/events/adapted-more-than-words-supporting-children-with-social-communication-differences/
END:VEVENT
END:VCALENDAR