BEGIN:VCALENDAR
VERSION:2.0
PRODID:-//eventon.com NONSGML v1.0//EN
CALSCALE:GREGORIAN
METHOD:PUBLISH
BEGIN:VEVENT
UID:69e5730974461
DTSTAMP:20260420T002753Z
DTSTART:20260617T083000Z
DTEND:20260617T113000Z
LOCATION:
SUMMARY:Managing Conversations: from difficult to open conversations
DESCRIPTION:Having conversations with families around sensitive topics can 
 feel daunting and stressful. The way we share our concerns can can impact o
 n the way that information is received by a family\,  and in turn can affec
 t a family’s relationship with professionals as well as affecting their j
 ourney with SEND. Come[..]\nhttps://calendar.bristolearlyyears.org.uk/event
 s/managing-conversations-from-difficult-to-open-conversations/
URL:https://calendar.bristolearlyyears.org.uk/events/managing-conversations-from-difficult-to-open-conversations/
END:VEVENT
END:VCALENDAR