BEGIN:VCALENDAR
VERSION:2.0
PRODID:-//eventon.com NONSGML v1.0//EN
CALSCALE:GREGORIAN
METHOD:PUBLISH
BEGIN:VEVENT
UID:69e57347defaa
DTSTAMP:20260420T002855Z
DTSTART:20260507T144500Z
DTEND:20260507T043000Z
LOCATION:Upper Horfield Community School and Early Years Sheridan Road\,  Bristol\,  BS7 0PU
SUMMARY:EYFS Profile Assessment Workshop
DESCRIPTION:A DfE funded workshop for professional dialogue to support the 
 accurate assessment and submission of the EYFSP. As part of Best Start for 
 Life\,  all reception teachers are encouraged by the DfE to attend an&nbsp;
 EYFS Profile Assessment workshop&nbsp;(formerly EYFSP moderation). Led by E
 YFSP Partners and funded by the DfE\,  the[..]\nhttps://calendar.bristolear
 lyyears.org.uk/events/eyfs-profile-assessment-workshop/
URL:https://calendar.bristolearlyyears.org.uk/events/eyfs-profile-assessment-workshop/
END:VEVENT
END:VCALENDAR