BEGIN:VCALENDAR
VERSION:2.0
PRODID:-//eventon.com NONSGML v1.0//EN
CALSCALE:GREGORIAN
METHOD:PUBLISH
BEGIN:VEVENT
UID:69e5736d01082
DTSTAMP:20260420T002933Z
DTSTART:20260511T170000Z
DTEND:20260511T181500Z
LOCATION:The Red House Children's Centre 1 Cossins Rd\,  Redland\,  Bristol BS6 7LY
SUMMARY:Enhancing Creativity through Expressive Arts and Crafts; Making a Mark
DESCRIPTION:In the first\,  introductory session we will be exploring diffe
 rent media and resources all about painting and mark-making\,  sharing expe
 riences and best practice examples of privileging process over product. We 
 will be using different kinds of media: watercolours\,  powder paint\,  gou
 ache\,  oil paint\,  Stabilo crayons\,  Acrylics markers\,  marbling inks.\
 nhttps://calendar.bristolearlyyears.org.uk/events/enhancing-creativity-thro
 ugh-expressive-arts-and-crafts-making-a-mark/
URL:https://calendar.bristolearlyyears.org.uk/events/enhancing-creativity-through-expressive-arts-and-crafts-making-a-mark/
END:VEVENT
END:VCALENDAR