BEGIN:VCALENDAR
VERSION:2.0
PRODID:-//eventon.com NONSGML v1.0//EN
CALSCALE:GREGORIAN
METHOD:PUBLISH
BEGIN:VEVENT
UID:69e63af471510
DTSTAMP:20260420T144052Z
DTSTART:20260511T144500Z
DTEND:20260511T163000Z
LOCATION:St Werburgh's Nursery School Saint Werburghs Park Nursery School Glenfrome Road Saint Werburgh's\,  Bristol BS2 9UX
SUMMARY:EYFS Profile Assessment Workshop
DESCRIPTION:A DfE funded workshop for professional dialogue to support the 
 accurate assessment and submission of the EYFSP. As part of Best Start for 
 Life\,  all reception teachers are encouraged by the DfE to attend an&nbsp;
 EYFS Profile Assessment workshop&nbsp;(formerly EYFSP moderation). Led by E
 YFSP Partners and funded by the DfE\,  the[..]\nhttps://calendar.bristolear
 lyyears.org.uk/events/eyfs-profile-assessment-workshop-2/
URL:https://calendar.bristolearlyyears.org.uk/events/eyfs-profile-assessment-workshop-2/
END:VEVENT
END:VCALENDAR