BEGIN:VCALENDAR
VERSION:2.0
PRODID:-//eventon.com NONSGML v1.0//EN
CALSCALE:GREGORIAN
METHOD:PUBLISH
BEGIN:VEVENT
UID:69e5732adfb6f
DTSTAMP:20260420T002826Z
DTSTART:20260602T123000Z
DTEND:20260602T141500Z
LOCATION:Knowle West Nursery School Leinster Avenue\,  Knowle West\,  Bristol BS4 1NN
SUMMARY:EYFS Profile Assessment Workshop
DESCRIPTION:A DfE funded workshop for professional dialogue to support the 
 accurate assessment and submission of the EYFSP. As part of Best Start for 
 Life\,  all reception teachers are encouraged by the DfE to attend an EYFS 
 Profile Assessment workshop (formerly EYFSP moderation). Led by EYFSP Partn
 ers and funded by the[..]\nhttps://calendar.bristolearlyyears.org.uk/events
 /eyfs-profile-assessment-workshop-8/
URL:https://calendar.bristolearlyyears.org.uk/events/eyfs-profile-assessment-workshop-8/
END:VEVENT
END:VCALENDAR