BEGIN:VCALENDAR
VERSION:2.0
PRODID:-//eventon.com NONSGML v1.0//EN
CALSCALE:GREGORIAN
METHOD:PUBLISH
BEGIN:VEVENT
UID:69e57349c3312
DTSTAMP:20260420T002857Z
DTSTART:20260807T083000Z
DTEND:20260807T094500Z
LOCATION:
SUMMARY:Talking About… Babies\,  Identity\,  Belonging and Representation
DESCRIPTION:In this reflective session\,  we will explore how representatio
 n supports identity\,  belonging and emotional security from the very start
 . Together\,  we will consider: What do babies notice about difference and 
 similarity? How does representation influence attachment and a sense of saf
 ety? What messages does our environment communicate\,  intentionally or uni
 ntentionally?[..]\nhttps://calendar.bristolearlyyears.org.uk/events/talking
 -about-babies-identity-belonging-and-representation/
URL:https://calendar.bristolearlyyears.org.uk/events/talking-about-babies-identity-belonging-and-representation/
END:VEVENT
END:VCALENDAR