BEGIN:VCALENDAR
VERSION:2.0
PRODID:-//eventon.com NONSGML v1.0//EN
CALSCALE:GREGORIAN
METHOD:PUBLISH
BEGIN:VEVENT
UID:69e572c92b46e
DTSTAMP:20260420T002649Z
DTSTART:20260902T130000Z
DTEND:20260902T143000Z
LOCATION:
SUMMARY:Leadership Matters Network (September 2026)
DESCRIPTION:We’re excited to introduce a brand-new regional online networ
 k designed specifically for early years leaders in PVI settings\,  taking p
 lace online on the first Wednesday of every month. Leadership Matters is yo
 ur space to connect\,  collaborate\,  and grow alongside like-minded profes
 sionals across our region. Whether you’re looking to share best[..]\nhttp
 s://calendar.bristolearlyyears.org.uk/events/leadership-matters-network-sep
 tember-2026/
URL:https://calendar.bristolearlyyears.org.uk/events/leadership-matters-network-september-2026/
END:VEVENT
END:VCALENDAR