BEGIN:VCALENDAR
VERSION:2.0
PRODID:-//eventon.com NONSGML v1.0//EN
CALSCALE:GREGORIAN
METHOD:PUBLISH
BEGIN:VEVENT
UID:69e572c36e53c
DTSTAMP:20260420T002643Z
DTSTART:20260512T083000Z
DTEND:20260512T113000Z
LOCATION:
SUMMARY:Bristol Trauma Informed Practice Immersion Session at Knowle West Nursery School TIP Hub
DESCRIPTION:This is an event for early years practitioners in&nbsp;Bristol 
 only&nbsp;and is organised by Bristol Early Years and the Bristol &amp; Bey
 ond Stronger Practice Hub. This is an opportunity to spend a morning in a â
 €˜trauma-informedâ€™ school. Knowle West Nursery School invites you to come
  along and find out about trauma-informed[..]\nhttps://calendar.bristolearl
 yyears.org.uk/events/bristol-trauma-informed-practice-immersion-session-at-
 knowle-west-nursery-school-tip-hub-2/
URL:https://calendar.bristolearlyyears.org.uk/events/bristol-trauma-informed-practice-immersion-session-at-knowle-west-nursery-school-tip-hub-2/
END:VEVENT
END:VCALENDAR